BEGIN:VCALENDAR
VERSION:2.0
PRODID:-//wp-events-plugin.com//6.6.4.4//EN
TZID:Europe/Berlin
X-WR-TIMEZONE:Europe/Berlin
BEGIN:VEVENT
UID:544@datmachstduheute.de
DTSTART;TZID=Europe/Berlin:20250706T180000
DTEND;TZID=Europe/Berlin:20250706T193000
DTSTAMP:20250701T130413Z
URL:https://www.datmachstduheute.de/events/nichts-wird-vergessen-tanzperfo
 rmance-3/
SUMMARY:Nichts wird vergessen\, Tanzperformance
DESCRIPTION:Für alle\, die das vergessen nicht akzeptieren. Politische Bil
 dung mit den Mitteln des Tanzes!\n\nGemeinsam mit dem Choreograf*innen-Tea
 m Stefan Hahn/ Rafaela Molina starten die Tänzerinnen der Jugendkompanie 
 von Performdance mit dieser Inszenierung eine Suchbewegung für eine neue 
 Erinnerungskultur\, die Räume eröffnet für Emotionen – aktivistisch\,
  den Blick weitend und tief ins Mark treffend.
CATEGORIES:Bühne
LOCATION:Alte Eisengießerei\, Frankenstraße 61\, Stralsund\, Mecklenburg-
 Vorpommern\, 18439\, Vorpommern-Rügen\, Deutschland
GEO:54.312174;13.093457
X-APPLE-STRUCTURED-LOCATION;VALUE=URI;X-ADDRESS=Frankenstraße 61\, Stralsu
 nd\, Mecklenburg-Vorpommern\, 18439\, Vorpommern-Rügen\, Deutschland;X-AP
 PLE-RADIUS=100;X-TITLE=Alte Eisengießerei:geo:54.312174,13.093457
END:VEVENT
BEGIN:VTIMEZONE
TZID:Europe/Berlin
X-LIC-LOCATION:Europe/Berlin
BEGIN:DAYLIGHT
DTSTART:20250330T030000
TZOFFSETFROM:+0100
TZOFFSETTO:+0200
TZNAME:CEST
END:DAYLIGHT
END:VTIMEZONE
END:VCALENDAR